BEGIN:VCALENDAR
PRODID:-//github.com/rianjs/ical.net//NONSGML ical.net 4.0//EN
VERSION:2.0
BEGIN:VEVENT
DESCRIPTION:Gemütliche Runde zum Frühlingsbeginn rund um Nettetal.\nhttps:
 //touren-termine.adfc.de/radveranstaltung/126644-fit-in-den-fruhling-im-k
 reis-viersen
DTEND:20240317T153000Z
DTSTAMP:20260421T133314Z
DTSTART:20240317T120000Z
LOCATION:Platz vor dem alten Rathaus\, Marktstraße 26\, 41334 Nettetal
SEQUENCE:0
SUMMARY:"Fit in den Frühling" im Kreis Viersen
UID:299c309b-75de-4670-9f5f-9473096e58e6
URL:https://touren-termine.adfc.de/radveranstaltung/126644-fit-in-den-fruh
 ling-im-kreis-viersen
END:VEVENT
END:VCALENDAR
