BEGIN:VCALENDAR
PRODID:-//github.com/rianjs/ical.net//NONSGML ical.net 4.0//EN
VERSION:2.0
BEGIN:VEVENT
DESCRIPTION:Unsere Geschäftsstelle ist für alle Anliegen und offenen Frage
 n geöffnet.\nhttps://touren-termine.adfc.de/radveranstaltung/147955-offnu
 ngszeit-unserer-geschaftsstelle
DTEND:20250214T170000Z
DTSTAMP:20260421T121019Z
DTSTART:20250214T150000Z
LOCATION:Essen (Innenstadt)\, ADFC Essen Geschäftsstelle\, Rottstraße 5\, 
 45127 Essen
SEQUENCE:0
SUMMARY:Öffnungszeit unserer Geschäftsstelle
UID:678dec60-7360-4f3e-abe0-9e1e6968ca47
URL:https://touren-termine.adfc.de/radveranstaltung/147955-offnungszeit-un
 serer-geschaftsstelle
END:VEVENT
END:VCALENDAR
