BEGIN:VCALENDAR
PRODID:-//github.com/rianjs/ical.net//NONSGML ical.net 4.0//EN
VERSION:2.0
BEGIN:VEVENT
DESCRIPTION:Terminänderung! Infoveranstaltung rund um das Thema Fahrrad/ E
 -Bike (Pedelec) und Verkehrssicherheit mit Vorführungen und Infostand des
  ADFC Kaufbeuren-Ostallgäu mit Fahrradcodierung (Diebstahlschutz)\nhttps:
 //touren-termine.adfc.de/radveranstaltung/92743-tag-der-regionen-pfronten
 -infostandcodierung
DTEND:20231001T150000Z
DTSTAMP:20260419T155922Z
DTSTART:20231001T090000Z
LOCATION:Vilstalstraße 2\, 87459 Pfronten
SEQUENCE:0
SUMMARY:Tag der Regionen Pfronten - Info-Stand+Codierung
UID:5273bc95-6641-4ca7-b5cc-534afc9a2919
URL:https://touren-termine.adfc.de/radveranstaltung/92743-tag-der-regionen
 -pfronten-infostandcodierung
END:VEVENT
END:VCALENDAR
