BEGIN:VCALENDAR
PRODID:-//github.com/rianjs/ical.net//NONSGML ical.net 4.0//EN
VERSION:2.0
BEGIN:VEVENT
DESCRIPTION:Möchtest du bei der Kidical Mass im Mai 2025 dabei sein? Oder 
 diskutieren\, wie wir uns bei Nachbarschaftsfesten und Kiezveranstaltunge
 n zukünftig noch besser aufstellen? Komm vorbei!\nhttps://touren-termine.
 adfc.de/radveranstaltung/157483-treffen-der-ag-kinder-familien
DTEND:20250218T200000Z
DTSTAMP:20260424T020735Z
DTSTART:20250218T190000Z
LOCATION:Velokiez\, Möckernstraße 47\, 10963 Berlin
SEQUENCE:0
SUMMARY:Treffen der AG Kinder & Familien
UID:7b638592-27b8-460e-bc1f-1c7909f2b0b2
URL:https://touren-termine.adfc.de/radveranstaltung/157483-treffen-der-ag-
 kinder-familien
END:VEVENT
END:VCALENDAR
