BEGIN:VCALENDAR
PRODID:-//github.com/rianjs/ical.net//NONSGML ical.net 4.0//EN
VERSION:2.0
BEGIN:VEVENT
DESCRIPTION:Jeweils am letzten Donnerstag im Monat treffen wir uns zum Sta
 mmtisch.\nhttps://touren-termine.adfc.de/radveranstaltung/166734-radlstam
 mtisch-gilching
DTEND:20260430T183000Z
DTSTAMP:20260419T152647Z
DTSTART:20260430T170000Z
LOCATION:Sportsbar Gilching\, Talhofstr.13\, 82205 Gilching
SEQUENCE:0
SUMMARY:Radlstammtisch Gilching
UID:99c89237-062b-4e5a-bd01-1c8648ad5452
URL:https://touren-termine.adfc.de/radveranstaltung/166734-radlstammtisch-
 gilching
END:VEVENT
END:VCALENDAR
