BEGIN:VCALENDAR
PRODID:-//github.com/rianjs/ical.net//NONSGML ical.net 4.0//EN
VERSION:2.0
BEGIN:VEVENT
DESCRIPTION:Wir fahren in Fahrgemeinschaften ins Alpenland. Das Ziel wird 
 bei der Anmeldung bekannt gegeben. Im Voralpenland und im 5 Seengebiet we
 rden ebenso Touren angeboten.\nhttps://touren-termine.adfc.de/radveransta
 ltung/149867-mtbbergtour-nach-wahl
DTEND:20251002T150000Z
DTSTAMP:20260425T150733Z
DTSTART:20251002T060000Z
LOCATION:Carolinenstraße 1a\, 82319 Starnberg
SEQUENCE:0
SUMMARY:MTB-Bergtour nach Wahl
UID:12273641-5ebb-405a-9aa0-a0047ae209a8
URL:https://touren-termine.adfc.de/radveranstaltung/149867-mtbbergtour-nac
 h-wahl
END:VEVENT
END:VCALENDAR
