BEGIN:VCALENDAR
PRODID:-//github.com/rianjs/ical.net//NONSGML ical.net 4.0//EN
VERSION:2.0
BEGIN:VEVENT
DESCRIPTION:Das Ziel der Tour wird zu Beginn bekanntgegeben. Anschließend 
 Gelegenheit zur gemeinsamen Einkehr.\nhttps://touren-termine.adfc.de/radv
 eranstaltung/119591-feierabendtour
DTEND:20240503T180000Z
DTSTAMP:20260421T100958Z
DTSTART:20240503T160000Z
LOCATION: Rheidt\, kath. Kirche\, 53859 Niederkassel
SEQUENCE:0
SUMMARY:Feierabendtour
UID:00f436a6-7fe9-411a-9336-cf046e9ec284
URL:https://touren-termine.adfc.de/radveranstaltung/119591-feierabendtour
END:VEVENT
END:VCALENDAR
