BEGIN:VCALENDAR
PRODID:-//github.com/rianjs/ical.net//NONSGML ical.net 4.0//EN
VERSION:2.0
BEGIN:VEVENT
DESCRIPTION:Kinder- und Familienkorso in Oranienburg: gemeinsam für ein ki
 nderfreundliches Straßenverkehrsrecht\, für sichere Schul- und Freizeitwe
 ge und für gutes Miteinander auf den Straßen durch die Stadt\nhttps://tou
 ren-termine.adfc.de/radveranstaltung/139205-kidical-mass-kinder-familienk
 orso
DTEND:20240928T110000Z
DTSTAMP:20260425T200558Z
DTSTART:20240928T083000Z
LOCATION:Neringstraße\, Parkplatz hinter der Stadtbücherei\, 16515 Oranien
 burg
SEQUENCE:0
SUMMARY:Kidical Mass: Kinder- & Familienkorso
UID:91cf4dfb-7747-4373-8856-8f909592c482
URL:https://touren-termine.adfc.de/radveranstaltung/139205-kidical-mass-ki
 nder-familienkorso
END:VEVENT
END:VCALENDAR
