BEGIN:VCALENDAR
PRODID:-//github.com/rianjs/ical.net//NONSGML ical.net 4.0//EN
VERSION:2.0
BEGIN:VEVENT
DESCRIPTION:Öffentlicher Stammtisch des ADFC Kempten-Oberallgäu.\nhttps://
 touren-termine.adfc.de/radveranstaltung/104543-radlerstammtisch-in-kempte
 n
DTEND:20230921T193000Z
DTSTAMP:20260424T151456Z
DTSTART:20230921T180000Z
LOCATION:swoboda alpin\, 87439 Kempten (Allgäu)
SEQUENCE:0
SUMMARY:Radlerstammtisch in Kempten
UID:7c314752-e361-4869-ba90-e4b62bca952b
URL:https://touren-termine.adfc.de/radveranstaltung/104543-radlerstammtisc
 h-in-kempten
END:VEVENT
END:VCALENDAR
