BEGIN:VCALENDAR
PRODID:-//github.com/rianjs/ical.net//NONSGML ical.net 4.0//EN
VERSION:2.0
BEGIN:VEVENT
DESCRIPTION:Diese Rundtour ab Dorfen führt uns zur Isenquelle nahe dem Wei
 ler Lacken auf der Hochfläche zwischen den Ortschaften Maitenbeth und Lic
 htenweg.\nhttps://touren-termine.adfc.de/radveranstaltung/186820-tour-zur
 -isenquelle
DTEND:20260926T130000Z
DTSTAMP:20260420T083111Z
DTSTART:20260926T073000Z
LOCATION:Unterer Marktplatz\, 84405 Dorfen
SEQUENCE:0
SUMMARY:Tour zur Isenquelle
UID:d4c9b918-3abf-4d33-8393-f3084a6cd4e5
URL:https://touren-termine.adfc.de/radveranstaltung/186820-tour-zur-isenqu
 elle
END:VEVENT
END:VCALENDAR
