BEGIN:VCALENDAR
PRODID:-//github.com/rianjs/ical.net//NONSGML ical.net 4.0//EN
VERSION:2.0
BEGIN:VEVENT
DESCRIPTION:Liebe Mitglieder des ADFC Hamburg\, der Vorstand lädt euch seh
 r herzlich zur diesjährigen Landesversammlung ein.\nhttps://touren-termin
 e.adfc.de/radveranstaltung/107682-landesversammlung-2023
DTEND:20231119T180000Z
DTSTAMP:20260421T024243Z
DTSTART:20231119T130000Z
LOCATION:Koppel 34-36\, 20099 Hamburg
SEQUENCE:0
SUMMARY:Landesversammlung 2023
UID:5ff6272e-4500-4148-a508-757110a7eee8
URL:https://touren-termine.adfc.de/radveranstaltung/107682-landesversammlu
 ng-2023
END:VEVENT
END:VCALENDAR
