BEGIN:VCALENDAR
PRODID:-//github.com/rianjs/ical.net//NONSGML ical.net 4.0//EN
VERSION:2.0
BEGIN:VEVENT
DESCRIPTION:Eigene  Anreise zum Startpunkt. Rucksackverpflegung und ausrei
 chend Getränke erforderlich .Ein Rundgang und eine Kaffeepause in Satemin
 \, dem schönsten Dorf auf der Tour nach Absprache.\nhttps://touren-termin
 e.adfc.de/radveranstaltung/129396-rundlingsdorfer-im-wendland-erkunden
DTEND:20240922T150000Z
DTSTAMP:20260421T114805Z
DTSTART:20240922T080000Z
LOCATION:Lübeln 2  Küsten\,  Parkplatz Rundlingsmuseum\, 29482 Lüchow-Dann
 enberg
SEQUENCE:0
SUMMARY:Rundlingsdörfer im Wendland erkunden.
UID:e1c02e87-404f-453f-abba-16911793cb1b
URL:https://touren-termine.adfc.de/radveranstaltung/129396-rundlingsdorfer
 -im-wendland-erkunden
END:VEVENT
END:VCALENDAR
