BEGIN:VCALENDAR
PRODID:-//github.com/rianjs/ical.net//NONSGML ical.net 4.0//EN
VERSION:2.0
BEGIN:VEVENT
DESCRIPTION:Das ca. 4 stündige radspaß-Training eignet sich besonders für 
 alle\, die das Pedelecfahren neu für sich entdeckt haben\, oder ihre Fahr
 sicherheit durch  Koordinations-Übungen verbessern möchten.\nhttps://tour
 en-termine.adfc.de/radveranstaltung/119109-radspass-mit-dem-ebikepedelec
DTEND:20240427T111500Z
DTSTAMP:20260423T053511Z
DTSTART:20240427T071500Z
LOCATION:Verkehrsübungswache Parkplatz Max-Eyth-See\, Mühlhäuser Straße 24
 0\, 70378 Stuttgart
SEQUENCE:0
SUMMARY:Radspaß mit dem E-Bike/Pedelec
UID:c8273657-c6c3-43c1-9af6-eb4b04f1af7a
URL:https://touren-termine.adfc.de/radveranstaltung/119109-radspass-mit-de
 m-ebikepedelec
END:VEVENT
END:VCALENDAR
