BEGIN:VCALENDAR
PRODID:-//github.com/rianjs/ical.net//NONSGML ical.net 4.0//EN
VERSION:2.0
BEGIN:VEVENT
DESCRIPTION:Änderung: Auf den Spuren der Eiszeit durch das östliche Urstro
 mtal. Entlang des beschaulichen Trebuser Sees und zur Großen Tränke. Über
  Braunsdorf zur Kaffeepause in Hartmannsdorf. Ende in Erkner.\nhttps://to
 uren-termine.adfc.de/radveranstaltung/90951-fischers-fritz
DTEND:20231008T160000Z
DTSTAMP:20260424T203421Z
DTSTART:20231008T080000Z
LOCATION:Bhf. Erkner\, Vorplatz\, 15537 Erkner
SEQUENCE:0
SUMMARY:Fischers Fritz
UID:2fce785f-d130-4215-9a0f-9b59160f777c
URL:https://touren-termine.adfc.de/radveranstaltung/90951-fischers-fritz
END:VEVENT
END:VCALENDAR
