BEGIN:VCALENDAR
PRODID:-//github.com/rianjs/ical.net//NONSGML ical.net 4.0//EN
VERSION:2.0
BEGIN:VEVENT
DESCRIPTION:Wir fahren zum 3.Fahrradtag auf den Markt von Königslutter. Do
 rt besteht die Möglichkeit\, das eigene Fahrrad zur Präv.Codieren zu lass
 en. Zurück reisen wir mit der Bahn oder selbstständig mit dem Rad.\nhttps
 ://touren-termine.adfc.de/radveranstaltung/119239-sternfahrt-nach-konigsl
 utter
DTEND:20240601T100000Z
DTSTAMP:20260423T051138Z
DTSTART:20240601T070000Z
LOCATION:Am Theater\, 38100 Braunschweig
SEQUENCE:0
SUMMARY:Sternfahrt nach Königslutter
UID:58d4d79d-43aa-4cc7-ac0e-7f7ba4486584
URL:https://touren-termine.adfc.de/radveranstaltung/119239-sternfahrt-nach
 -konigslutter
END:VEVENT
END:VCALENDAR
