BEGIN:VCALENDAR
PRODID:-//github.com/rianjs/ical.net//NONSGML ical.net 4.0//EN
VERSION:2.0
BEGIN:VEVENT
DESCRIPTION:Radlertreff im Glossner Bräustübl\nhttps://touren-termine.adfc
 .de/radveranstaltung/138104-radlertreff
DTEND:20241025T200000Z
DTSTAMP:20260425T021410Z
DTSTART:20241025T170000Z
LOCATION:Glossner Bräustübl\, Schwesterhausgasse 9\, 92318 Neumarkt in der
  Oberpfalz
SEQUENCE:0
SUMMARY:Radlertreff
UID:f3c83e3f-01e6-4e4d-bfdc-8440e4784fab
URL:https://touren-termine.adfc.de/radveranstaltung/138104-radlertreff
END:VEVENT
END:VCALENDAR
