BEGIN:VCALENDAR
PRODID:-//github.com/rianjs/ical.net//NONSGML ical.net 4.0//EN
VERSION:2.0
BEGIN:VEVENT
DESCRIPTION:Wanderung vom Bhf. Kirchmöser durch das unbekannte NSG Gränert
 . Ziel ist nach 20 km wieder der Bhf. Kirchmöser. Keine Ausstiegsmöglichk
 eit. Keine Fahrräder.\nhttps://touren-termine.adfc.de/radveranstaltung/12
 3057-wanderung-neuentdeckungen-um-kirchmoser
DTEND:20240218T170000Z
DTSTAMP:20260424T230815Z
DTSTART:20240218T080000Z
LOCATION:Bhf. Zoologischer Garten\, Gleis 4\, 10623 Berlin
SEQUENCE:0
SUMMARY:WANDERUNG: Neuentdeckungen um Kirchmöser
UID:d9e96ee7-e68a-4f4b-a583-c3b4a6c3b94a
URL:https://touren-termine.adfc.de/radveranstaltung/123057-wanderung-neuen
 tdeckungen-um-kirchmoser
END:VEVENT
END:VCALENDAR
