BEGIN:VCALENDAR
PRODID:-//github.com/rianjs/ical.net//NONSGML ical.net 4.0//EN
VERSION:2.0
BEGIN:VEVENT
DESCRIPTION:Es werden Themen rund ums Rad (Radtouren\, Verkehrspolitik ode
 r auch Technik) besprochen. Gäste sind herzlich willkommen.\nhttps://tour
 en-termine.adfc.de/radveranstaltung/135470-monatliches-treffen-september-
 thaers-wirtshaus
DTEND:20240904T190000Z
DTSTAMP:20260421T193450Z
DTSTART:20240904T163000Z
LOCATION:Thaerplatz 1\, 29221 Celle
SEQUENCE:0
SUMMARY:Monatliches Treffen\, September (Thaers Wirtshaus)
UID:140e955b-71d9-4c9e-b8b2-2fb470d60fc2
URL:https://touren-termine.adfc.de/radveranstaltung/135470-monatliches-tre
 ffen-september-thaers-wirtshaus
END:VEVENT
END:VCALENDAR
