BEGIN:VCALENDAR
PRODID:-//github.com/rianjs/ical.net//NONSGML ical.net 4.0//EN
VERSION:2.0
BEGIN:VEVENT
DESCRIPTION:Wir fahren über Schloss Benrath und folgen im Anschluss kurz d
 er Itter. Am Rande von Langenfeld radeln wir an die Wupper\, dessen Fluss
 verlauf wir bis Burg folgen.\nhttps://touren-termine.adfc.de/radveranstal
 tung/185149-schloss-burg
DTEND:20260610T170000Z
DTSTAMP:20260421T203307Z
DTSTART:20260610T070000Z
LOCATION:Rathaus\, Am Neumarkt 2 (Alte Heerstrasse\, neben den Ladesäulen 
 an der Parkplatzeinfahrt)\, 41564 Kaarst
SEQUENCE:0
SUMMARY:Schloss Burg
UID:36675074-042b-4a37-b4f9-18b09355a05a
URL:https://touren-termine.adfc.de/radveranstaltung/185149-schloss-burg
END:VEVENT
END:VCALENDAR
