BEGIN:VCALENDAR
PRODID:-//github.com/rianjs/ical.net//NONSGML ical.net 4.0//EN
VERSION:2.0
BEGIN:VEVENT
DESCRIPTION:Das Motto dieser Radtour heißt Spiel und Spaß für kleine Radfa
 hrer.\nhttps://touren-termine.adfc.de/radveranstaltung/191250-zum-spielpl
 atz-radeln
DTEND:20260508T150000Z
DTSTAMP:20260424T231937Z
DTSTART:20260508T130000Z
LOCATION:Schauturm im LGS-Gelände\, Dr.-Kurz-Str.\,\, 92318 Neumarkt in de
 r Oberpfalz
SEQUENCE:0
SUMMARY:Zum Spielplatz radeln
UID:1baf4e7d-34dc-40b6-9507-d7d559f68899
URL:https://touren-termine.adfc.de/radveranstaltung/191250-zum-spielplatz-
 radeln
END:VEVENT
END:VCALENDAR
