BEGIN:VCALENDAR
PRODID:-//github.com/rianjs/ical.net//NONSGML ical.net 4.0//EN
VERSION:2.0
BEGIN:VEVENT
DESCRIPTION:Unsere Geschäftsstelle ist für alle Anliegen und offenen Frage
 n geöffnet.\nhttps://touren-termine.adfc.de/radveranstaltung/183829-offnu
 ngszeit-unserer-geschaftsstelle
DTEND:20260626T160000Z
DTSTAMP:20260421T115515Z
DTSTART:20260626T140000Z
LOCATION:Essen (Innenstadt)\, ADFC Essen Geschäftsstelle\, Rottstraße 5\, 
 45127 Essen
SEQUENCE:0
SUMMARY:Öffnungszeit unserer Geschäftsstelle
UID:9af36f9a-f7f4-49a2-a095-5a595d280782
URL:https://touren-termine.adfc.de/radveranstaltung/183829-offnungszeit-un
 serer-geschaftsstelle
END:VEVENT
END:VCALENDAR
