BEGIN:VCALENDAR
PRODID:-//github.com/rianjs/ical.net//NONSGML ical.net 4.0//EN
VERSION:2.0
BEGIN:VEVENT
DESCRIPTION:Wir radeln bei der Critical Mass in Kaufbeuren für sicheren un
 d alltagstauglichen Radverkehr in Kaufbeuren.\nhttps://touren-termine.adf
 c.de/radveranstaltung/98120-critical-mass-kaufbeuren
DTEND:20230728T171500Z
DTSTAMP:20260419T155837Z
DTSTART:20230728T160000Z
LOCATION:Kaiser-Max-Straße\, 87600 Kaufbeuren
SEQUENCE:0
SUMMARY:Critical Mass Kaufbeuren
UID:e9ce70cc-7c08-440b-b27e-cf9442da86f1
URL:https://touren-termine.adfc.de/radveranstaltung/98120-critical-mass-ka
 ufbeuren
END:VEVENT
END:VCALENDAR
