BEGIN:VCALENDAR
PRODID:-//github.com/rianjs/ical.net//NONSGML ical.net 4.0//EN
VERSION:2.0
BEGIN:VEVENT
DESCRIPTION:Interessierte Fahrradfreunde sind zum Aktiventreffen herzlich 
 willkommen!\nhttps://touren-termine.adfc.de/radveranstaltung/149908-adfc-
 aktiventreffen
DTEND:20250320T193000Z
DTSTAMP:20260420T150320Z
DTSTART:20250320T173000Z
LOCATION:Alsenstraße 27\, 44789 Bochum
SEQUENCE:0
SUMMARY:ADFC Aktiventreffen
UID:84e21f1c-9b27-4dbb-acbf-4cbba0f61189
URL:https://touren-termine.adfc.de/radveranstaltung/149908-adfc-aktiventre
 ffen
END:VEVENT
END:VCALENDAR
