BEGIN:VCALENDAR
PRODID:-//github.com/rianjs/ical.net//NONSGML ical.net 4.0//EN
VERSION:2.0
BEGIN:VEVENT
DESCRIPTION:Der Radlertreff ist das Angebot an unsere Solinger Mitglieder 
 und ihre Freunde mit uns und interessanten Ansprechpartnern ins Gespräch 
 zu kommen.\nhttps://touren-termine.adfc.de/radveranstaltung/120980-radler
 treff-solingen-mai-2024-welzel-zu-gast
DTEND:20240521T190000Z
DTSTAMP:20260421T172648Z
DTSTART:20240521T173000Z
LOCATION:Locher Straße 17\, 42719 Solingen
SEQUENCE:0
SUMMARY:Radlertreff Solingen - Mai 2024 - Welzel zu Gast
UID:d07d2241-5f7a-4a92-b994-51a99ba87eb0
URL:https://touren-termine.adfc.de/radveranstaltung/120980-radlertreff-sol
 ingen-mai-2024-welzel-zu-gast
END:VEVENT
END:VCALENDAR
