BEGIN:VCALENDAR
PRODID:-//github.com/rianjs/ical.net//NONSGML ical.net 4.0//EN
VERSION:2.0
BEGIN:VEVENT
DESCRIPTION:Auf der Wannsee Route zum Schlachtensee und Wannsee. Zurück mi
 t der S-Bahn oder mit dem Rad über alte Stammbahn und Teltowkanal\nhttps:
 //touren-termine.adfc.de/radveranstaltung/112305-berliner-fahrradwoche-sc
 hlachtensee-und-wannsee
DTEND:20240726T140000Z
DTSTAMP:20260425T133715Z
DTSTART:20240726T080000Z
LOCATION:Potsdamer Platz\, historische Ampelanlage\, 10785 Berlin
SEQUENCE:0
SUMMARY:Berliner Fahrradwoche: Schlachtensee und Wannsee
UID:1cce60d0-e524-4c9b-a6ca-96f43c319c05
URL:https://touren-termine.adfc.de/radveranstaltung/112305-berliner-fahrra
 dwoche-schlachtensee-und-wannsee
END:VEVENT
END:VCALENDAR
