BEGIN:VCALENDAR
PRODID:-//github.com/rianjs/ical.net//NONSGML ical.net 4.0//EN
VERSION:2.0
BEGIN:VEVENT
DESCRIPTION:Zum Kaffee trinken ins Cafe Mühlenholz an der Osterau nach Hei
 dmühlen. Eine Einkehr in der Landbrauerei Rickling ist auch geplant.\nhtt
 ps://touren-termine.adfc.de/radveranstaltung/195815-heidmuhlen-cafe-muhle
 nholz
DTEND:20260719T140000Z
DTSTAMP:20260421T084131Z
DTSTART:20260719T090000Z
LOCATION:Norderstraße 1\, 24539 Neumünster
SEQUENCE:0
SUMMARY:Heidmühlen Cafe Mühlenholz
UID:f4b745b1-4c5a-44f1-9b7c-b7bcff274e5d
URL:https://touren-termine.adfc.de/radveranstaltung/195815-heidmuhlen-cafe
 -muhlenholz
END:VEVENT
END:VCALENDAR
