BEGIN:VCALENDAR
PRODID:-//github.com/rianjs/ical.net//NONSGML ical.net 4.0//EN
VERSION:2.0
BEGIN:VEVENT
DESCRIPTION:Geschwindigkeitsgruppen: Pättkes-Tour (15-18 km/h)\, Flotte To
 ur (18-21 km/h).\nZiel und Route werden beim Start bekannt gegeben.\nhttp
 s://touren-termine.adfc.de/radveranstaltung/145525-feierabendtour-rund-um
 -coesfeld-oktober
DTEND:20251013T160000Z
DTSTAMP:20260419T232425Z
DTSTART:20251013T140000Z
LOCATION:Marktplatz\, 48653 Coesfeld
SEQUENCE:0
SUMMARY:Feierabendtour rund um Coesfeld: Oktober
UID:8866e5cd-5fd4-4b70-9901-9fe2ecbac327
URL:https://touren-termine.adfc.de/radveranstaltung/145525-feierabendtour-
 rund-um-coesfeld-oktober
END:VEVENT
END:VCALENDAR
