BEGIN:VCALENDAR
PRODID:-//github.com/rianjs/ical.net//NONSGML ical.net 4.0//EN
VERSION:2.0
BEGIN:VEVENT
DESCRIPTION:Von Crailsheim über Kirchberg/Jagst nach Schwäbisch Hall und w
 eiter nach Hessental\nhttps://touren-termine.adfc.de/radveranstaltung/107
 739-von-crailsheim-nach-hessental
DTEND:20231126T160000Z
DTSTAMP:20260424T144104Z
DTSTART:20231126T084500Z
LOCATION:Kegelenstraße 12\, 70372 Stuttgart
SEQUENCE:0
SUMMARY:Von Crailsheim nach Hessental
UID:802543a5-d16e-4e79-91d5-0c975ab53def
URL:https://touren-termine.adfc.de/radveranstaltung/107739-von-crailsheim-
 nach-hessental
END:VEVENT
END:VCALENDAR
