BEGIN:VCALENDAR
PRODID:-//github.com/rianjs/ical.net//NONSGML ical.net 4.0//EN
VERSION:2.0
BEGIN:VEVENT
DESCRIPTION:Die Tulpen-Magnolie treibt schon ihre Knospen aus. Die Blüteze
 it ist recht kurz\, aber Form und Farbe ist prächtig anzuschauen.\nhttps:
 //touren-termine.adfc.de/radveranstaltung/194662-die-tulpenmagnolie-in-un
 serer-region-refrath
DTEND:20260318T150000Z
DTSTAMP:20260423T151723Z
DTSTART:20260318T121500Z
LOCATION:Radstation Stationsstraße 3\, S-Bahn\, Omnibusse\, 51465 Bergisch
  Gladbach
SEQUENCE:0
SUMMARY:Die Tulpen-Magnolie in unserer Region Refrath
UID:a47fa3b0-407c-46f0-a126-954dc8bf7446
URL:https://touren-termine.adfc.de/radveranstaltung/194662-die-tulpenmagno
 lie-in-unserer-region-refrath
END:VEVENT
END:VCALENDAR
