BEGIN:VCALENDAR
PRODID:-//github.com/rianjs/ical.net//NONSGML ical.net 4.0//EN
VERSION:2.0
BEGIN:VEVENT
DESCRIPTION:An Schwanheim vorbei geht es an der Nidda entlang nach Praunhe
 im. Nach der Einkehr im Ginnheimer Wirtshaus fahren wir durch das Zentrum
  von Frankfurt weiter nach Dreieich. Anmeldung notwendig.\nhttps://touren
 -termine.adfc.de/radveranstaltung/144572-nach-frankfurtpraunheim-zum-ginn
 heimer-wirtshaus
DTEND:20250712T150000Z
DTSTAMP:20260423T192328Z
DTSTART:20250712T080000Z
LOCATION:Lindenplatz\, 63303 Sprendlingen
SEQUENCE:0
SUMMARY:Nach Frankfurt-Praunheim zum Ginnheimer Wirtshaus
UID:5ae7e3ed-cd7b-448b-83c2-1469da90834e
URL:https://touren-termine.adfc.de/radveranstaltung/144572-nach-frankfurtp
 raunheim-zum-ginnheimer-wirtshaus
END:VEVENT
END:VCALENDAR
