BEGIN:VCALENDAR
PRODID:-//github.com/rianjs/ical.net//NONSGML ical.net 4.0//EN
VERSION:2.0
BEGIN:VEVENT
DESCRIPTION:Mobile Fahrradwerkstatt zum selbst schrauben: Jeden 3. Samstag
  im Monat 14 – 17 Uhr auf dem Quartiersplatz in Langenhagen-Wiesenau\nhtt
 ps://touren-termine.adfc.de/radveranstaltung/158766-extern-quartiersschra
 uber-wiesenau-
DTEND:20250816T150000Z
DTSTAMP:20260424T173128Z
DTSTART:20250816T120000Z
LOCATION:Quartierstreff: Freiligrathstraße 11\, 30851 Langenhagen
SEQUENCE:0
SUMMARY:Extern: "„Quartiersschrauber Wiesenau“ ⓇⓈ
UID:af163d7a-441c-4fe3-8276-1786d83c73a7
URL:https://touren-termine.adfc.de/radveranstaltung/158766-extern-quartier
 sschrauber-wiesenau-
END:VEVENT
END:VCALENDAR
