BEGIN:VCALENDAR
PRODID:-//github.com/rianjs/ical.net//NONSGML ical.net 4.0//EN
VERSION:2.0
BEGIN:VEVENT
DESCRIPTION:Wir fahren mit dem MTB durch das Renchtal auf den Mooskopf und
  über das Kinzigtal zurück nach Offenburg\nhttps://touren-termine.adfc.de
 /radveranstaltung/156465-renchtal-mooskopf-kinzigtal
DTEND:20250817T140000Z
DTSTAMP:20260422T231641Z
DTSTART:20250817T080000Z
LOCATION:Historisches Rathaus\, Hauptstraße 90\, 77652 Offenburg
SEQUENCE:0
SUMMARY:Renchtal - Mooskopf - Kinzigtal
UID:7ef72695-661f-4fc1-b033-68d7423761d1
URL:https://touren-termine.adfc.de/radveranstaltung/156465-renchtal-moosko
 pf-kinzigtal
END:VEVENT
END:VCALENDAR
