BEGIN:VCALENDAR
PRODID:-//github.com/rianjs/ical.net//NONSGML ical.net 4.0//EN
VERSION:2.0
BEGIN:VEVENT
DESCRIPTION:Entlang der Schwarzen Laber nach Painten\nhttps://touren-termi
 ne.adfc.de/radveranstaltung/145208-griechenland-auf-dem-jura
DTEND:20250720T160000Z
DTSTAMP:20260421T103216Z
DTSTART:20250720T073000Z
LOCATION:ADFC Selbsthilfewerkstatt\, Weinweg 2\, 93049 Regensburg
SEQUENCE:0
SUMMARY:Griechenland auf dem Jura
UID:5d29820b-9009-4509-b157-60db6a8876ac
URL:https://touren-termine.adfc.de/radveranstaltung/145208-griechenland-au
 f-dem-jura
END:VEVENT
END:VCALENDAR
