BEGIN:VCALENDAR
PRODID:-//github.com/rianjs/ical.net//NONSGML ical.net 4.0//EN
VERSION:2.0
BEGIN:VEVENT
DESCRIPTION:Fahrsicherheitstraining für Erwachsene. Auffrischung und Train
 ing der praktischen Grundkenntnisse der Fahrtechnik.\nAnmeldung bis 20.03
 .2025\nhttps://touren-termine.adfc.de/radveranstaltung/145827-fahrsicherh
 eitstraining-in-marktoberdorf-level-1
DTEND:20250327T180000Z
DTSTAMP:20260419T155842Z
DTSTART:20250327T150000Z
LOCATION:Verkehrsübungsplatz an der Adalbert-Stifter Schule\, Schwabenstra
 ße 53\, Marktoberdorf\, 87616 Marktoberdorf
SEQUENCE:0
SUMMARY:Fahrsicherheitstraining in Marktoberdorf - Level 1
UID:b3e279d2-fb2e-42a4-a0e3-b357182a1d78
URL:https://touren-termine.adfc.de/radveranstaltung/145827-fahrsicherheits
 training-in-marktoberdorf-level-1
END:VEVENT
END:VCALENDAR
