BEGIN:VCALENDAR
PRODID:-//github.com/rianjs/ical.net//NONSGML ical.net 4.0//EN
VERSION:2.0
BEGIN:VEVENT
DESCRIPTION:Eine Tour mit etwas Tempo führt uns entlang der Sulz\, der Alt
 mühl dem Alten und dem Neuer Kanal nach Dietfurt. Die Mittagseinkehr wird
  nicht fehlen da Energie für die Rückfahrt nötig ist.\nhttps://touren-ter
 mine.adfc.de/radveranstaltung/106554-durch-das-sulztal-ins-altmuhltal-nac
 h-dietfurt
DTEND:20231008T150000Z
DTSTAMP:20260424T231701Z
DTSTART:20231008T070000Z
LOCATION:Schauturm im LGS-Gelände\, 92318 Neumarkt in der Oberpfalz
SEQUENCE:0
SUMMARY:Durch das Sulztal ins Altmühltal nach Dietfurt
UID:e1da6177-506f-46dd-9ca6-d9fa5108a020
URL:https://touren-termine.adfc.de/radveranstaltung/106554-durch-das-sulzt
 al-ins-altmuhltal-nach-dietfurt
END:VEVENT
END:VCALENDAR
