BEGIN:VCALENDAR
PRODID:-//github.com/rianjs/ical.net//NONSGML ical.net 4.0//EN
VERSION:2.0
BEGIN:VEVENT
DESCRIPTION:Der ADFC Schöneberg und das Bündnis Barbarossaplatz rufen die 
 Politik in Tempelhof-Schöneberg dazu auf\, eine klimafreundliche und zuku
 nftsweisende Umgestaltung des Barbarossaplatzes zu ermöglichen.\nhttps://
 touren-termine.adfc.de/radveranstaltung/138964-demo-100924-um-16-uhr-bund
 nis-barbarossaplatz
DTEND:20240910T150000Z
DTSTAMP:20260424T020638Z
DTSTART:20240910T140000Z
LOCATION:Barbarossaplatz\, 10781 Berlin
SEQUENCE:0
SUMMARY:Demo 10.09.24 um 16 Uhr: Bündnis Barbarossaplatz!
UID:20767a69-cce1-455a-97ee-083984cc1499
URL:https://touren-termine.adfc.de/radveranstaltung/138964-demo-100924-um-
 16-uhr-bundnis-barbarossaplatz
END:VEVENT
END:VCALENDAR
