BEGIN:VCALENDAR
PRODID:-//github.com/rianjs/ical.net//NONSGML ical.net 4.0//EN
VERSION:2.0
BEGIN:VEVENT
DESCRIPTION:Kleine Runde in den Südwesten von Celle\nEinkehr nach Ende der
  Tour möglich.\nhttps://touren-termine.adfc.de/radveranstaltung/168890-fe
 ierabendtour
DTEND:20250722T180000Z
DTSTAMP:20260421T153927Z
DTSTART:20250722T160000Z
LOCATION:Herzogin-Eleonore-Allee / Am Teich im Französischen Garten\, 2922
 1 Celle
SEQUENCE:0
SUMMARY:Feierabendtour
UID:6aea5f67-f1c9-47f4-a30b-9177f8f2d3e1
URL:https://touren-termine.adfc.de/radveranstaltung/168890-feierabendtour
END:VEVENT
END:VCALENDAR
