BEGIN:VCALENDAR
PRODID:-//github.com/rianjs/ical.net//NONSGML ical.net 4.0//EN
VERSION:2.0
BEGIN:VEVENT
DESCRIPTION:Das ADFC-Aktiventreffen bietet die Möglichkeit gemeinsam über 
 aktuelle Themen zu diskutieren\, Ideen auszutauschen und aktiv an unserer
  Vereinsarbeit teilzuhaben.\nhttps://touren-termine.adfc.de/radveranstalt
 ung/143984-adfcaktiventreffen
DTEND:20250604T190000Z
DTSTAMP:20260424T162126Z
DTSTART:20250604T170000Z
LOCATION:Kunstraum im Hundertwasser-Bahnhof\, Friedensreich-Hundertwasser-
 Platz 1\, 29525 Uelzen
SEQUENCE:0
SUMMARY:ADFC-Aktiventreffen
UID:c5648160-9398-4393-9230-125b707ad3fb
URL:https://touren-termine.adfc.de/radveranstaltung/143984-adfcaktiventref
 fen
END:VEVENT
END:VCALENDAR
