BEGIN:VCALENDAR
PRODID:-//github.com/rianjs/ical.net//NONSGML ical.net 4.0//EN
VERSION:2.0
BEGIN:VEVENT
DESCRIPTION:Die Bezirksgruppe Altona setzt sich für den Radverkehr in alle
 n Straßen und Stadtteilen von Rissen bis Sternschanze ein.\nhttps://toure
 n-termine.adfc.de/radveranstaltung/102950-bezirksgruppe-altona
DTEND:20240417T190000Z
DTSTAMP:20260420T230758Z
DTSTART:20240417T170000Z
LOCATION:Flavour Court im Othmarscher Tennis-Club\, 22763 Hamburg\, Othmar
 schen
SEQUENCE:0
SUMMARY:Bezirksgruppe Altona
UID:c1e3ae79-d372-4066-8ef8-13756a95b24f
URL:https://touren-termine.adfc.de/radveranstaltung/102950-bezirksgruppe-a
 ltona
END:VEVENT
END:VCALENDAR
