BEGIN:VCALENDAR
PRODID:-//github.com/rianjs/ical.net//NONSGML ical.net 4.0//EN
VERSION:2.0
BEGIN:VEVENT
DESCRIPTION:Über Stock und Stein am Abend? Das bieten wir bei unseren MTB-
 Feierabendtouren rund um Bietigheim-Bissingen.\nhttps://touren-termine.ad
 fc.de/radveranstaltung/115971-bietigheimbissinger-mountainbikefeierabendt
 ouren
DTEND:20240410T190000Z
DTSTAMP:20260425T200408Z
DTSTART:20240410T163000Z
LOCATION:Enzpavillon\, 74321 Bietigheim-Bissingen
SEQUENCE:0
SUMMARY:Bietigheim-Bissinger Mountainbike-Feierabendtouren
UID:8b28ecfd-5fd6-4379-916f-14f356dcb9b4
URL:https://touren-termine.adfc.de/radveranstaltung/115971-bietigheimbissi
 nger-mountainbikefeierabendtouren
END:VEVENT
END:VCALENDAR
