BEGIN:VCALENDAR
PRODID:-//github.com/rianjs/ical.net//NONSGML ical.net 4.0//EN
VERSION:2.0
BEGIN:VEVENT
DESCRIPTION:Wir fahren in Fahrgemeinschaften ins Alpenland. Das Ziel wird 
 bei der Anmeldung bekannt gegeben. Im Voralpenland und im 5 Seengebiet we
 rden ebenso Touren angeboten.\nhttps://touren-termine.adfc.de/radveransta
 ltung/89179-mtbbergtour-nach-wahl
DTEND:20230921T160000Z
DTSTAMP:20260425T150439Z
DTSTART:20230921T063000Z
LOCATION:Carolinenstraße\, 82319 Starnberg
SEQUENCE:0
SUMMARY:MTB-Bergtour nach Wahl
UID:5549640c-70f1-4df4-b3cd-9bb5dcb03047
URL:https://touren-termine.adfc.de/radveranstaltung/89179-mtbbergtour-nach
 -wahl
END:VEVENT
END:VCALENDAR
