BEGIN:VCALENDAR
PRODID:-//github.com/rianjs/ical.net//NONSGML ical.net 4.0//EN
VERSION:2.0
BEGIN:VEVENT
DESCRIPTION:Wir radeln von Großräschen entlang des Gr. Räschener- und des 
 Sedlitzer Sees zum Tagebau Welzow und zur Steinitzer Treppe. Ende der Tou
 r ist der Bhf. Cottbus.\nhttps://touren-termine.adfc.de/radveranstaltung/
 169374-faszination-seen-und-bergbau
DTEND:20250725T180000Z
DTSTAMP:20260424T232137Z
DTSTART:20250725T063000Z
LOCATION:Bhf. Berlin Zoologischer Garten\, Gleis 2\, 10623 Berlin
SEQUENCE:0
SUMMARY:Faszination: Seen und Bergbau
UID:9569ec2a-4493-45a2-be0f-68d3d43b7acf
URL:https://touren-termine.adfc.de/radveranstaltung/169374-faszination-see
 n-und-bergbau
END:VEVENT
END:VCALENDAR
