BEGIN:VCALENDAR
PRODID:-//github.com/rianjs/ical.net//NONSGML ical.net 4.0//EN
VERSION:2.0
BEGIN:VEVENT
DESCRIPTION:Regelmäßige Tagestour mit Start in Gauting zu einem naturkundl
 ich\, historisch\, kunsthistorisch oder tagesaktuell interessanten Ziel i
 m Südwesten von München. Heute: Zum Botanischen Garten\nhttps://touren-te
 rmine.adfc.de/radveranstaltung/164117-unterwegs-im-sudwesten
DTEND:20250502T140000Z
DTSTAMP:20260425T151029Z
DTSTART:20250502T080000Z
LOCATION:Rathaus\, Bahnhofstraße 7\, 82131 Gauting
SEQUENCE:0
SUMMARY:Unterwegs im Südwesten
UID:6a86b7d0-e3d4-4d8d-9309-b277a5a226f3
URL:https://touren-termine.adfc.de/radveranstaltung/164117-unterwegs-im-su
 dwesten
END:VEVENT
END:VCALENDAR
