BEGIN:VCALENDAR
PRODID:-//github.com/rianjs/ical.net//NONSGML ical.net 4.0//EN
VERSION:2.0
BEGIN:VEVENT
DESCRIPTION:Schnelle Tour rund um Ahrensburg für Fahrerinnen und Fahrer mi
 t guter Kondition\nhttps://touren-termine.adfc.de/radveranstaltung/116279
 -schnelle-runde-rund-um-ahrensburg
DTEND:20240505T150000Z
DTSTAMP:20260423T015510Z
DTSTART:20240505T120000Z
LOCATION:Parkplatz vor dem Schloss in der Lübecker Straße\, 22926 Ahrensbu
 rg
SEQUENCE:0
SUMMARY:Schnelle Runde rund um Ahrensburg
UID:a79affee-65c5-4e9c-a6fe-9e57879af30c
URL:https://touren-termine.adfc.de/radveranstaltung/116279-schnelle-runde-
 rund-um-ahrensburg
END:VEVENT
END:VCALENDAR
