BEGIN:VCALENDAR
PRODID:-//github.com/rianjs/ical.net//NONSGML ical.net 4.0//EN
VERSION:2.0
BEGIN:VEVENT
DESCRIPTION:Öffentlicher Stammtisch des Kreisverbandes Kempten-Oberallgäu\
 nhttps://touren-termine.adfc.de/radveranstaltung/159754-radlerstammtisch-
 in-kempten
DTEND:20250918T200000Z
DTSTAMP:20260424T151657Z
DTSTART:20250918T180000Z
LOCATION:swoboda alpin\, Aybühlweg 69\, 87439 Kempten (Allgäu)
SEQUENCE:0
SUMMARY:Radlerstammtisch in Kempten
UID:276dab15-8d4e-42f6-8ec3-fd258269a5c6
URL:https://touren-termine.adfc.de/radveranstaltung/159754-radlerstammtisc
 h-in-kempten
END:VEVENT
END:VCALENDAR
