BEGIN:VCALENDAR
PRODID:-//github.com/rianjs/ical.net//NONSGML ical.net 4.0//EN
VERSION:2.0
BEGIN:VEVENT
DESCRIPTION:Die Stadtteilgruppe Lichtenberg trifft sich jeden 1. Donnersta
 g im Monat.\nFahrradinteressierte aus Lichtenberg\, die mehr über unsere 
 Arbeit erfahren bzw. mitmachen möchten\, sind herzlich willkommen.\nhttps
 ://touren-termine.adfc.de/radveranstaltung/186351-treffen-der-stadtteilgr
 uppe-lichtenberg
DTEND:20260507T190000Z
DTSTAMP:20260420T120224Z
DTSTART:20260507T170000Z
LOCATION:Interkultureller Garten Lichtenberg\, Liebenwalder Straße 12 - 16
 \, 13055 Berlin
SEQUENCE:0
SUMMARY:Treffen der Stadtteilgruppe Lichtenberg
UID:c100b681-cbc7-484b-892c-b60cbc589c83
URL:https://touren-termine.adfc.de/radveranstaltung/186351-treffen-der-sta
 dtteilgruppe-lichtenberg
END:VEVENT
END:VCALENDAR
