BEGIN:VCALENDAR
PRODID:-//github.com/rianjs/ical.net//NONSGML ical.net 4.0//EN
VERSION:2.0
BEGIN:VEVENT
DESCRIPTION:Feierabendtour über Kupferdreh und Werden zur Sternwarte in Es
 sen-Schuir.\nhttps://touren-termine.adfc.de/radveranstaltung/92422-radtou
 r-zur-sternwarte-in-schuir
DTEND:20231025T210000Z
DTSTAMP:20260419T182056Z
DTSTART:20231025T163000Z
LOCATION:Zornige Ameise\, 45134 Essen
SEQUENCE:0
SUMMARY:Radtour zur STERNWARTE in SCHUIR
UID:7e7ff5ea-8305-47cc-a7a5-845d0007c257
URL:https://touren-termine.adfc.de/radveranstaltung/92422-radtour-zur-ster
 nwarte-in-schuir
END:VEVENT
END:VCALENDAR
