BEGIN:VCALENDAR
PRODID:-//github.com/rianjs/ical.net//NONSGML ical.net 4.0//EN
VERSION:2.0
BEGIN:VEVENT
DESCRIPTION:Von Bad Cannstatt ins Remstal und über den Schurwald nach Ploc
 hingen und schließlich über die Fildern nach Stuttgart zum Schlossplatz\n
 https://touren-termine.adfc.de/radveranstaltung/134488-bad-cannstatt-ploc
 hingen-schlossplatz
DTEND:20240726T150000Z
DTSTAMP:20260424T144005Z
DTSTART:20240726T070000Z
LOCATION:Kegelenstraße 12\, 70372 Stuttgart
SEQUENCE:0
SUMMARY:Bad Cannstatt - Plochingen - Schlossplatz
UID:1ca3678d-daa9-4d20-973a-64bdb7212dc9
URL:https://touren-termine.adfc.de/radveranstaltung/134488-bad-cannstatt-p
 lochingen-schlossplatz
END:VEVENT
END:VCALENDAR
