BEGIN:VCALENDAR
PRODID:-//github.com/rianjs/ical.net//NONSGML ical.net 4.0//EN
VERSION:2.0
BEGIN:VEVENT
DESCRIPTION:Das ADFC Frühlingsfest im Rahmen des 10. Hattinger Fahrradfrüh
 lings sowie des LWL-Museumsfestes.\nhttps://touren-termine.adfc.de/radver
 anstaltung/190745-adfcfruhlingsfest-und-lwlmuseumsfest
DTEND:20260517T150000Z
DTSTAMP:20260421T190543Z
DTSTART:20260517T080000Z
LOCATION:LWL-Museum Henrichshütte\, Werksstraße 31-35\, 45527 Hattingen
SEQUENCE:0
SUMMARY:ADFC-Frühlingsfest und LWL-Museumsfest
UID:68c226dc-0937-4358-bd5a-0ba7ca32f8fc
URL:https://touren-termine.adfc.de/radveranstaltung/190745-adfcfruhlingsfe
 st-und-lwlmuseumsfest
END:VEVENT
END:VCALENDAR
