BEGIN:VCALENDAR
PRODID:-//github.com/rianjs/ical.net//NONSGML ical.net 4.0//EN
VERSION:2.0
BEGIN:VEVENT
DESCRIPTION:Du willst die Radfahrsituation in Korschenbroich verbessern? D
 ann bist du hier richtig.\nhttps://touren-termine.adfc.de/radveranstaltun
 g/172516-arbeitskreis-mobilitat-und-sicherheit
DTEND:20251218T193000Z
DTSTAMP:20260423T151927Z
DTSTART:20251218T173000Z
LOCATION:Gymnasium Korschenbroich\, Container-Gebäude\, Don-Bosco-Str./Hug
 o-Kamper-Gasse\, 41352 Korschenbroich
SEQUENCE:0
SUMMARY:Arbeitskreis Mobilität und Sicherheit
UID:d4f476cf-ae06-48e8-ab49-e6f728e0a191
URL:https://touren-termine.adfc.de/radveranstaltung/172516-arbeitskreis-mo
 bilitat-und-sicherheit
END:VEVENT
END:VCALENDAR
